BEGIN:VCALENDAR
VERSION:2.0
PRODID:-//www.frutigen.ch//NONSGML kigkonsult.se iCalcreator 2.22//
CALSCALE:GREGORIAN
METHOD:PUBLISH
X-WR-TIMEZONE:Europe/Berlin
BEGIN:VEVENT
UID:20260419T153309CEST-7496M3aTdo@www.frutigen.ch
DTSTAMP:20260419T133309Z
DESCRIPTION:Klicken Sie auf den folgenden Link\, um weitere Informationen z
 ur Veranstaltung zu erhalten:\nhttp://www.frutigen.ch/de/veranstaltungen/d
 etail/detail.php?i=495
DTSTART:20260328T090000
DTEND:20260328T150000
LOCATION:Gemeindezentrum Lötschberg
SUMMARY:Infomesse 60+ 
END:VEVENT
END:VCALENDAR
