BEGIN:VCALENDAR
VERSION:2.0
PRODID:-//www.frutigen.ch//NONSGML kigkonsult.se iCalcreator 2.22//
CALSCALE:GREGORIAN
METHOD:PUBLISH
X-WR-TIMEZONE:Europe/Berlin
BEGIN:VEVENT
UID:20260420T120217CEST-0026taUhBJ@www.frutigen.ch
DTSTAMP:20260420T100217Z
DESCRIPTION:Klicken Sie auf den folgenden Link\, um weitere Informationen z
 ur Veranstaltung zu erhalten:\nhttp://www.frutigen.ch/de/veranstaltungen/d
 etail/detail.php?i=507
DTSTART:20260509T090000
DTEND:20260509T130000
LOCATION:Holzbackstube Frutigen
SUMMARY:Urgetreide: Dinkel-Sauerteigbrot backen
END:VEVENT
END:VCALENDAR
