BEGIN:VCALENDAR
METHOD:PUBLISH
PRODID:-//Weblication CMS
VERSION:2.0
BEGIN:VEVENT
SUMMARY:Beginn Sommerferien Oberstufenschule
DTSTART:20260703T000000
DTEND:20260703T000000
DESCRIPTION:
LOCATION:Oberstufenschule
UID:https://www.frutigen.ch/schule/veranstaltungen/termine/Beginn-Sommerferien-Oberstufenschule.php
URL:https://www.frutigen.ch/schule/veranstaltungen/termine/Beginn-Sommerferien-Oberstufenschule.php
END:VEVENT
END:VCALENDAR