BEGIN:VCALENDAR
METHOD:PUBLISH
PRODID:-//Weblication CMS
VERSION:2.0
BEGIN:VEVENT
SUMMARY:Papiersammlung 2026 Bäuerten 
DTSTART:20260505T000000
DTEND:20260505T000000
DESCRIPTION:
LOCATION:Hasli
UID:https://www.frutigen.ch/schule/veranstaltungen/termine/Papiersammlung-2026-Baeuerten.php
URL:https://www.frutigen.ch/schule/veranstaltungen/termine/Papiersammlung-2026-Baeuerten.php
END:VEVENT
END:VCALENDAR