BEGIN:VCALENDAR
METHOD:PUBLISH
PRODID:-//Weblication CMS
VERSION:2.0
BEGIN:VEVENT
SUMMARY:Schulfest Kanderbrück
DTSTART:20260619T000000
DTEND:20260619T000000
DESCRIPTION:
LOCATION:Kanderbrück
UID:https://www.frutigen.ch/schule/veranstaltungen/termine/Schulfest-Kanderbrueck-1.php
URL:https://www.frutigen.ch/schule/veranstaltungen/termine/Schulfest-Kanderbrueck-1.php
END:VEVENT
END:VCALENDAR